BEGIN:VCALENDAR
VERSION:2.0
PRODID:-//SABINE - ECPv6.15.17//NONSGML v1.0//EN
CALSCALE:GREGORIAN
METHOD:PUBLISH
X-WR-CALNAME:SABINE
X-ORIGINAL-URL:https://sabinerouenvelo.org
X-WR-CALDESC:Évènements pour SABINE
REFRESH-INTERVAL;VALUE=DURATION:PT1H
X-Robots-Tag:noindex
X-PUBLISHED-TTL:PT1H
BEGIN:VTIMEZONE
TZID:Europe/Paris
BEGIN:DAYLIGHT
TZOFFSETFROM:+0100
TZOFFSETTO:+0200
TZNAME:CEST
DTSTART:20250330T010000
END:DAYLIGHT
BEGIN:STANDARD
TZOFFSETFROM:+0200
TZOFFSETTO:+0100
TZNAME:CET
DTSTART:20251026T010000
END:STANDARD
BEGIN:DAYLIGHT
TZOFFSETFROM:+0100
TZOFFSETTO:+0200
TZNAME:CEST
DTSTART:20260329T010000
END:DAYLIGHT
BEGIN:STANDARD
TZOFFSETFROM:+0200
TZOFFSETTO:+0100
TZNAME:CET
DTSTART:20261025T010000
END:STANDARD
BEGIN:DAYLIGHT
TZOFFSETFROM:+0100
TZOFFSETTO:+0200
TZNAME:CEST
DTSTART:20270328T010000
END:DAYLIGHT
BEGIN:STANDARD
TZOFFSETFROM:+0200
TZOFFSETTO:+0100
TZNAME:CET
DTSTART:20271031T010000
END:STANDARD
END:VTIMEZONE
BEGIN:VEVENT
DTSTART;TZID=Europe/Paris:20260510T110000
DTEND;TZID=Europe/Paris:20260510T120000
DTSTAMP:20260424T143642
CREATED:20260420T143339Z
LAST-MODIFIED:20260420T143339Z
UID:4291-1778410800-1778414400@sabinerouenvelo.org
SUMMARY:Café-vélo
DESCRIPTION:Nous vous proposons de nous retrouver pour partager et discuter autour du vélo en extérieur : rendez-vous à 11h dans le nouveau parc de la Place de la Haute Vieille Tour.
URL:https://sabinerouenvelo.org/event/cafe-velo/
LOCATION:Place de la Haute Vieille Tour\, Rouen\, Place de la Haute Vieille Tour\, Rouen\, 76000\, France
END:VEVENT
BEGIN:VEVENT
DTSTART;TZID=Europe/Paris:20260513T180000
DTEND;TZID=Europe/Paris:20260513T193000
DTSTAMP:20260424T143642
CREATED:20260423T175041Z
LAST-MODIFIED:20260423T175041Z
UID:4302-1778695200-1778700600@sabinerouenvelo.org
SUMMARY:Séance de dédicaces de Stein van Oosteren
DESCRIPTION:Stein van Oosteren rencontrera ses lecteurs et aura un séance de dédicace de son nouvel ouvrage « Désir d’agir »
URL:https://sabinerouenvelo.org/event/seance-de-dedicaces-de-stein-van-oosteren/
LOCATION:Librairie la Tonne\, 11-13 rue Saint-Vivien\, Rouen\, 76000\, France
ORGANIZER;CN="Sabine%2C l'asso v%C3%A9lo de Rouen et sa M%C3%A9tropole":MAILTO:rouensabine@fub.fr
END:VEVENT
BEGIN:VEVENT
DTSTART;TZID=Europe/Paris:20260513T200000
DTEND;TZID=Europe/Paris:20260513T223000
DTSTAMP:20260424T143642
CREATED:20260420T093544Z
LAST-MODIFIED:20260420T105836Z
UID:4284-1778702400-1778711400@sabinerouenvelo.org
SUMMARY:Stein Van Oosteren à Rouen
DESCRIPTION:Stein Van Oosteren vient à Rouen\, à 20h00 à l’auditorium des Beaux Arts .  \n\n\n\nVenez découvrir ce passioné de vélo lors de sa tournée Européenne.  \n\n\n\n« Comment déclencher la transition écologique ? Quelles priorités pour le développement du vélo à Rouen entre 2026 et 2032
URL:https://sabinerouenvelo.org/event/stein-van-oosteren-a-rouen/
LOCATION:Auditorium du Musée des Beaux Arts\, 26 bis rue Jean Lecanuet\, Rouen\, 76000\, France
END:VEVENT
BEGIN:VEVENT
DTSTART;TZID=Europe/Paris:20260530T100000
DTEND;TZID=Europe/Paris:20260530T170000
DTSTAMP:20260424T143642
CREATED:20260420T114714Z
LAST-MODIFIED:20260420T114715Z
UID:4288-1780135200-1780160400@sabinerouenvelo.org
SUMMARY:Bourse aux vélos
DESCRIPTION:Nous proposons une bourse aux vélos pour revendre votre vélo ou en trouver un d’occasion.
URL:https://sabinerouenvelo.org/event/bourse-aux-velos/
LOCATION:Esplanade Marcel Duchamp\, Esplanade Marcel Duchamp\, Rouen\, 76000\, France
END:VEVENT
END:VCALENDAR